BEGIN:VCALENDAR
VERSION:2.0
PRODID:-//Plone.org//NONSGML plone.app.event//EN
X-WR-TIMEZONE:US/Central
BEGIN:VEVENT
SUMMARY:Back 2 School Block Party
DTSTART;TZID=US/Central:20240713T090000
DTEND;TZID=US/Central:20240713T110000
DTSTAMP:20260422T071746Z
UID:793b32ddb272439ba61d6577957d769f@saas_stack_varnish:6080
ATTENDEE;CN="Open to students in pre-school through 12th grade";ROLE=REQ-P
 ARTICIPANT:Open to students in pre-school through 12th grade
CONTACT:For more infromation or to reserve a booth\, contact Brittany Rive
 rs\, 409-938-2270\, briver@gchd.org
CREATED:20240410T213801Z
LAST-MODIFIED:20240410T215555Z
LOCATION:Coastal Health & Wellness - Texas City
URL:https://hitchcock.ploud.net/back-2-school-block-party
END:VEVENT
BEGIN:VTIMEZONE
TZID:US/Central
X-LIC-LOCATION:US/Central
BEGIN:DAYLIGHT
DTSTART:20240310T030000
TZNAME:CDT
TZOFFSETFROM:-0600
TZOFFSETTO:-0500
END:DAYLIGHT
END:VTIMEZONE
END:VCALENDAR
