BEGIN:VCALENDAR
VERSION:2.0
PRODID:-//Plone.org//NONSGML plone.app.event//EN
X-WR-TIMEZONE:US/Central
BEGIN:VEVENT
SUMMARY:At Library SRP Moody Gardens "amazon animals"
DTSTART;TZID=US/Central:20210708T130000
DTEND;TZID=US/Central:20210708T134500
DTSTAMP:20260422T090246Z
UID:047223d348604e5baad2193a97b219e5@saas_stack_varnish:6080
ATTENDEE;CN="age 2 to 12";ROLE=REQ-PARTICIPANT:age 2 to 12
CONTACT:Joyce L. Kleimann\, 14099867814\, hitchpl@comcast.net
CREATED:20210504T203213Z
LAST-MODIFIED:20210602T140120Z
LOCATION:Outside at the back of the library
URL:https://hitchcock.ploud.net/at-library-srp-moody-gardens-amazon-animal
 s
END:VEVENT
BEGIN:VTIMEZONE
TZID:US/Central
X-LIC-LOCATION:US/Central
BEGIN:DAYLIGHT
DTSTART:20210314T030000
TZNAME:CDT
TZOFFSETFROM:-0600
TZOFFSETTO:-0500
END:DAYLIGHT
END:VTIMEZONE
END:VCALENDAR
