BEGIN:VCALENDAR
VERSION:2.0
PRODID:-//Plone.org//NONSGML plone.app.event//EN
X-WR-TIMEZONE:US/Central
BEGIN:VEVENT
SUMMARY:Adult Music Class
DTSTART;TZID=US/Central:20240227T140000
DTEND;TZID=US/Central:20240227T160000
DTSTAMP:20260422T053609Z
UID:b0fad04f5e3f470da0ffdba4df821033@saas_stack_varnish:6080
CONTACT:409-986-7814\, hitchcockpubliclibrary@gmail.com
CREATED:20240123T200235Z
LAST-MODIFIED:20240123T200307Z
LOCATION:Hitchcock Public Library
URL:https://hitchcock.ploud.net/adult-music-class-42
END:VEVENT
BEGIN:VTIMEZONE
TZID:US/Central
X-LIC-LOCATION:US/Central
BEGIN:STANDARD
DTSTART:20231105T010000
TZNAME:CST
TZOFFSETFROM:-0500
TZOFFSETTO:-0600
END:STANDARD
END:VTIMEZONE
END:VCALENDAR
