BEGIN:VCALENDAR
VERSION:2.0
PRODID:-//Plone.org//NONSGML plone.app.event//EN
X-WR-TIMEZONE:US/Central
BEGIN:VEVENT
SUMMARY:Adult Music Class
DTSTART;TZID=US/Central:20240116T140000
DTEND;TZID=US/Central:20240116T160000
DTSTAMP:20260422T090156Z
UID:9e97591fd3bc4efeb74f7916b62ecc75@saas_stack_varnish:6080
CONTACT:409-986-7814\, hitchcockpubliclibrary@gmail.com
CREATED:20240103T192949Z
LAST-MODIFIED:20240103T193005Z
LOCATION:Hitchcock Public Library
URL:https://hitchcock.ploud.net/adult-music-class-37
END:VEVENT
BEGIN:VTIMEZONE
TZID:US/Central
X-LIC-LOCATION:US/Central
BEGIN:STANDARD
DTSTART:20231105T010000
TZNAME:CST
TZOFFSETFROM:-0500
TZOFFSETTO:-0600
END:STANDARD
END:VTIMEZONE
END:VCALENDAR
