BEGIN:VCALENDAR
VERSION:2.0
PRODID:-//Plone.org//NONSGML plone.app.event//EN
X-WR-TIMEZONE:US/Central
BEGIN:VEVENT
SUMMARY:Adult Music Class
DTSTART;TZID=US/Central:20231219T140000
DTEND;TZID=US/Central:20231219T160000
DTSTAMP:20260424T083610Z
UID:6ddb7593d91744bfa04a33efb2ce41ea@saas_stack_varnish:6080
CREATED:20231128T212539Z
LAST-MODIFIED:20231128T212545Z
LOCATION:Hitchcock Public Library
URL:https://hitchcock.ploud.net/adult-music-class-36
END:VEVENT
BEGIN:VTIMEZONE
TZID:US/Central
X-LIC-LOCATION:US/Central
BEGIN:STANDARD
DTSTART:20231105T010000
TZNAME:CST
TZOFFSETFROM:-0500
TZOFFSETTO:-0600
END:STANDARD
END:VTIMEZONE
END:VCALENDAR
