BEGIN:VCALENDAR
VERSION:2.0
PRODID:-//Plone.org//NONSGML plone.app.event//EN
X-WR-TIMEZONE:US/Central
BEGIN:VEVENT
SUMMARY:Adult Music Class
DTSTART;TZID=US/Central:20231205T140000
DTEND;TZID=US/Central:20231205T160000
DTSTAMP:20260422T053436Z
UID:58e5c451e5ec46f699b1c7f4b407fba4@saas_stack_varnish:6080
CREATED:20231128T203223Z
LAST-MODIFIED:20231128T203230Z
LOCATION:Hitchcock Public Library
URL:https://hitchcock.ploud.net/adult-music-class-34
END:VEVENT
BEGIN:VTIMEZONE
TZID:US/Central
X-LIC-LOCATION:US/Central
BEGIN:STANDARD
DTSTART:20231105T010000
TZNAME:CST
TZOFFSETFROM:-0500
TZOFFSETTO:-0600
END:STANDARD
END:VTIMEZONE
END:VCALENDAR
