BEGIN:VCALENDAR
VERSION:2.0
PRODID:-//Plone.org//NONSGML plone.app.event//EN
X-WR-TIMEZONE:US/Central
BEGIN:VEVENT
SUMMARY:Adult Music Class
DTSTART;TZID=US/Central:20231121T140000
DTEND;TZID=US/Central:20231121T160000
DTSTAMP:20260424T083611Z
UID:319c8be55b8b4c5587025cf4f5b3adfb@saas_stack_varnish:6080
CREATED:20231020T152655Z
LAST-MODIFIED:20231020T152701Z
LOCATION:Hitchcock Public Library
URL:https://hitchcock.ploud.net/adult-music-class-32
END:VEVENT
BEGIN:VTIMEZONE
TZID:US/Central
X-LIC-LOCATION:US/Central
BEGIN:STANDARD
DTSTART:20231105T010000
TZNAME:CST
TZOFFSETFROM:-0500
TZOFFSETTO:-0600
END:STANDARD
END:VTIMEZONE
END:VCALENDAR
