BEGIN:VCALENDAR
VERSION:2.0
PRODID:-//Plone.org//NONSGML plone.app.event//EN
X-WR-TIMEZONE:US/Central
BEGIN:VEVENT
SUMMARY:Adult Music Class
DTSTART;TZID=US/Central:20231114T140000
DTEND;TZID=US/Central:20231114T160000
DTSTAMP:20260422T084841Z
UID:9ad7480e24d64b6b98b128622899e612@saas_stack_varnish:6080
CREATED:20231020T152230Z
LAST-MODIFIED:20231020T152237Z
LOCATION:Hitchcock Public Library
URL:https://hitchcock.ploud.net/adult-music-class-31
END:VEVENT
BEGIN:VTIMEZONE
TZID:US/Central
X-LIC-LOCATION:US/Central
BEGIN:STANDARD
DTSTART:20231105T010000
TZNAME:CST
TZOFFSETFROM:-0500
TZOFFSETTO:-0600
END:STANDARD
END:VTIMEZONE
END:VCALENDAR
