BEGIN:VCALENDAR
VERSION:2.0
PRODID:-//Plone.org//NONSGML plone.app.event//EN
X-WR-TIMEZONE:US/Central
BEGIN:VEVENT
SUMMARY:Adult Music Class
DTSTART;TZID=US/Central:20230418T140000
DTEND;TZID=US/Central:20230418T160000
DTSTAMP:20260422T084716Z
UID:a943ad497ac74b10a6ab025652d79276@saas_stack_varnish:6080
CONTACT:409-986-7814\, hitchcockpubliclibrary@gmail.com
CREATED:20230329T200722Z
LAST-MODIFIED:20230329T201139Z
LOCATION:Hitchcock Public Library
URL:https://hitchcock.ploud.net/adult-music-class-3
END:VEVENT
BEGIN:VTIMEZONE
TZID:US/Central
X-LIC-LOCATION:US/Central
BEGIN:DAYLIGHT
DTSTART:20230312T030000
TZNAME:CDT
TZOFFSETFROM:-0600
TZOFFSETTO:-0500
END:DAYLIGHT
END:VTIMEZONE
END:VCALENDAR
