BEGIN:VCALENDAR
VERSION:2.0
PRODID:-//Plone.org//NONSGML plone.app.event//EN
X-WR-TIMEZONE:US/Central
BEGIN:VEVENT
SUMMARY:Adult Music Class
DTSTART;TZID=US/Central:20231031T140000
DTEND;TZID=US/Central:20231031T160000
DTSTAMP:20260422T053451Z
UID:489d176de32844c1a6463e6ad1f0b4eb@saas_stack_varnish:6080
CREATED:20230929T152412Z
LAST-MODIFIED:20230929T152425Z
LOCATION:Hitchcock Public Library
URL:https://hitchcock.ploud.net/adult-music-class-28
END:VEVENT
BEGIN:VTIMEZONE
TZID:US/Central
X-LIC-LOCATION:US/Central
BEGIN:DAYLIGHT
DTSTART:20230312T030000
TZNAME:CDT
TZOFFSETFROM:-0600
TZOFFSETTO:-0500
END:DAYLIGHT
END:VTIMEZONE
END:VCALENDAR
