BEGIN:VCALENDAR
VERSION:2.0
PRODID:-//Plone.org//NONSGML plone.app.event//EN
X-WR-TIMEZONE:US/Central
BEGIN:VEVENT
SUMMARY:Adult Music Class
DTSTART;TZID=US/Central:20231024T140000
DTEND;TZID=US/Central:20231024T160000
DTSTAMP:20260422T090153Z
UID:010c037736344e8994defdfab6a46117@saas_stack_varnish:6080
CREATED:20230928T191241Z
LAST-MODIFIED:20230929T152726Z
LOCATION:Hitchcock Public Library
URL:https://hitchcock.ploud.net/adult-music-class-26
END:VEVENT
BEGIN:VTIMEZONE
TZID:US/Central
X-LIC-LOCATION:US/Central
BEGIN:DAYLIGHT
DTSTART:20230312T030000
TZNAME:CDT
TZOFFSETFROM:-0600
TZOFFSETTO:-0500
END:DAYLIGHT
END:VTIMEZONE
END:VCALENDAR
