BEGIN:VCALENDAR
VERSION:2.0
PRODID:-//Plone.org//NONSGML plone.app.event//EN
X-WR-TIMEZONE:US/Central
BEGIN:VEVENT
SUMMARY:Adult Music Class
DTSTART;TZID=US/Central:20231010T140000
DTEND;TZID=US/Central:20231010T160000
DTSTAMP:20260422T053416Z
UID:4e7599401f8e40cbb9b2ad1bd1118b54@saas_stack_varnish:6080
CONTACT:409-986-7814
CREATED:20230928T183547Z
LAST-MODIFIED:20230929T152651Z
LOCATION:Hitchcock Public Library
URL:https://hitchcock.ploud.net/adult-music-class-25
END:VEVENT
BEGIN:VTIMEZONE
TZID:US/Central
X-LIC-LOCATION:US/Central
BEGIN:DAYLIGHT
DTSTART:20230312T030000
TZNAME:CDT
TZOFFSETFROM:-0600
TZOFFSETTO:-0500
END:DAYLIGHT
END:VTIMEZONE
END:VCALENDAR
