BEGIN:VCALENDAR
VERSION:2.0
PRODID:-//Plone.org//NONSGML plone.app.event//EN
X-WR-TIMEZONE:US/Central
BEGIN:VEVENT
SUMMARY:Adult Music Class
DTSTART;TZID=US/Central:20230822T140000
DTEND;TZID=US/Central:20230822T150000
DTSTAMP:20260422T090154Z
UID:ab18ef9ec6c74835b1764a36f2c6d67b@saas_stack_varnish:6080
CONTACT:409-986-7814\, hitchcockpubliclibrary@gmail.com
CREATED:20230811T163206Z
LAST-MODIFIED:20230811T163213Z
LOCATION:Hitchcock Public Library
URL:https://hitchcock.ploud.net/adult-music-class-19
END:VEVENT
BEGIN:VTIMEZONE
TZID:US/Central
X-LIC-LOCATION:US/Central
BEGIN:DAYLIGHT
DTSTART:20230312T030000
TZNAME:CDT
TZOFFSETFROM:-0600
TZOFFSETTO:-0500
END:DAYLIGHT
END:VTIMEZONE
END:VCALENDAR
