BEGIN:VCALENDAR
VERSION:2.0
PRODID:-//Plone.org//NONSGML plone.app.event//EN
X-WR-TIMEZONE:US/Central
BEGIN:VEVENT
SUMMARY:Adult Music Class
DTSTART;TZID=US/Central:20230815T140000
DTEND;TZID=US/Central:20230815T150000
DTSTAMP:20260422T053411Z
UID:29ffea747a3d445fa672cc31509c68f6@saas_stack_varnish:6080
CONTACT:409-986-7814\, hitchcockpubliclibrary@gmail.com
CREATED:20230811T162954Z
LAST-MODIFIED:20230811T163030Z
LOCATION:Hitchcock Public Library
URL:https://hitchcock.ploud.net/adult-music-class-18
END:VEVENT
BEGIN:VTIMEZONE
TZID:US/Central
X-LIC-LOCATION:US/Central
BEGIN:DAYLIGHT
DTSTART:20230312T030000
TZNAME:CDT
TZOFFSETFROM:-0600
TZOFFSETTO:-0500
END:DAYLIGHT
END:VTIMEZONE
END:VCALENDAR
