BEGIN:VCALENDAR
VERSION:2.0
PRODID:-//Plone.org//NONSGML plone.app.event//EN
X-WR-TIMEZONE:US/Central
BEGIN:VEVENT
SUMMARY:Adult Music Class
DTSTART;TZID=US/Central:20240206T140000
DTEND;TZID=US/Central:20240206T160000
DTSTAMP:20260422T052744Z
UID:a2f398d4a96c452b9e2877f299a0446e@saas_stack_varnish:6080
CONTACT:409-986-7814\, hitchcockpubliclibrary@gmail.com
CREATED:20240123T182751Z
LAST-MODIFIED:20240123T182940Z
LOCATION:Hitchcock Public Library
URL:https://hitchcock.ploud.net/a
END:VEVENT
BEGIN:VTIMEZONE
TZID:US/Central
X-LIC-LOCATION:US/Central
BEGIN:STANDARD
DTSTART:20231105T010000
TZNAME:CST
TZOFFSETFROM:-0500
TZOFFSETTO:-0600
END:STANDARD
END:VTIMEZONE
END:VCALENDAR
